BEGIN:VCALENDAR
VERSION:2.0
PRODID:-//Filet&#039;s Waterfront - ECPv6.15.20//NONSGML v1.0//EN
CALSCALE:GREGORIAN
METHOD:PUBLISH
X-WR-CALNAME:Filet&#039;s Waterfront
X-ORIGINAL-URL:https://filetswaterfront.com
X-WR-CALDESC:Events for Filet&#039;s Waterfront
REFRESH-INTERVAL;VALUE=DURATION:PT1H
X-Robots-Tag:noindex
X-PUBLISHED-TTL:PT1H
BEGIN:VTIMEZONE
TZID:America/New_York
BEGIN:DAYLIGHT
TZOFFSETFROM:-0500
TZOFFSETTO:-0400
TZNAME:EDT
DTSTART:20220313T070000
END:DAYLIGHT
BEGIN:STANDARD
TZOFFSETFROM:-0400
TZOFFSETTO:-0500
TZNAME:EST
DTSTART:20221106T060000
END:STANDARD
BEGIN:DAYLIGHT
TZOFFSETFROM:-0500
TZOFFSETTO:-0400
TZNAME:EDT
DTSTART:20230312T070000
END:DAYLIGHT
BEGIN:STANDARD
TZOFFSETFROM:-0400
TZOFFSETTO:-0500
TZNAME:EST
DTSTART:20231105T060000
END:STANDARD
BEGIN:DAYLIGHT
TZOFFSETFROM:-0500
TZOFFSETTO:-0400
TZNAME:EDT
DTSTART:20240310T070000
END:DAYLIGHT
BEGIN:STANDARD
TZOFFSETFROM:-0400
TZOFFSETTO:-0500
TZNAME:EST
DTSTART:20241103T060000
END:STANDARD
END:VTIMEZONE
BEGIN:VEVENT
DTSTART;TZID=America/New_York:20230628T180000
DTEND;TZID=America/New_York:20230628T210000
DTSTAMP:20260422T151448
CREATED:20230217T154356Z
LAST-MODIFIED:20230626T132357Z
UID:10000065-1687975200-1687986000@filetswaterfront.com
SUMMARY:Control Freak Duo
DESCRIPTION:
URL:https://filetswaterfront.com/event/control-freak-duo-3/
LOCATION:Dinner Menu
CATEGORIES:Live Music
ATTACH;FMTTYPE=image/png:https://filetswaterfront.com/wp-content/uploads/2023/02/control-freak.png
END:VEVENT
END:VCALENDAR