BEGIN:VCALENDAR
VERSION:2.0
PRODID:-//Filet&#039;s Waterfront - ECPv6.15.20//NONSGML v1.0//EN
CALSCALE:GREGORIAN
METHOD:PUBLISH
X-ORIGINAL-URL:https://filetswaterfront.com
X-WR-CALDESC:Events for Filet&#039;s Waterfront
REFRESH-INTERVAL;VALUE=DURATION:PT1H
X-Robots-Tag:noindex
X-PUBLISHED-TTL:PT1H
BEGIN:VTIMEZONE
TZID:America/New_York
BEGIN:DAYLIGHT
TZOFFSETFROM:-0500
TZOFFSETTO:-0400
TZNAME:EDT
DTSTART:20220313T070000
END:DAYLIGHT
BEGIN:STANDARD
TZOFFSETFROM:-0400
TZOFFSETTO:-0500
TZNAME:EST
DTSTART:20221106T060000
END:STANDARD
BEGIN:DAYLIGHT
TZOFFSETFROM:-0500
TZOFFSETTO:-0400
TZNAME:EDT
DTSTART:20230312T070000
END:DAYLIGHT
BEGIN:STANDARD
TZOFFSETFROM:-0400
TZOFFSETTO:-0500
TZNAME:EST
DTSTART:20231105T060000
END:STANDARD
BEGIN:DAYLIGHT
TZOFFSETFROM:-0500
TZOFFSETTO:-0400
TZNAME:EDT
DTSTART:20240310T070000
END:DAYLIGHT
BEGIN:STANDARD
TZOFFSETFROM:-0400
TZOFFSETTO:-0500
TZNAME:EST
DTSTART:20241103T060000
END:STANDARD
END:VTIMEZONE
BEGIN:VEVENT
DTSTART;TZID=America/New_York:20230303T173000
DTEND;TZID=America/New_York:20230303T203000
DTSTAMP:20260422T170058
CREATED:20230217T135913Z
LAST-MODIFIED:20230217T135913Z
UID:10000016-1677864600-1677875400@filetswaterfront.com
SUMMARY:Campbell Bridgeman
DESCRIPTION:
URL:https://filetswaterfront.com/event/campbell-bridgeman/
LOCATION:Dinner Menu
CATEGORIES:Live Music
ATTACH;FMTTYPE=:
END:VEVENT
BEGIN:VEVENT
DTSTART;TZID=America/New_York:20230304T173000
DTEND;TZID=America/New_York:20230304T203000
DTSTAMP:20260422T170058
CREATED:20230217T135953Z
LAST-MODIFIED:20230217T135953Z
UID:10000017-1677951000-1677961800@filetswaterfront.com
SUMMARY:King Tide Trio
DESCRIPTION:
URL:https://filetswaterfront.com/event/king-tide-trio/
LOCATION:Dinner Menu
CATEGORIES:Live Music
ATTACH;FMTTYPE=:
END:VEVENT
BEGIN:VEVENT
DTSTART;TZID=America/New_York:20230310T173000
DTEND;TZID=America/New_York:20230310T203000
DTSTAMP:20260422T170058
CREATED:20230217T140024Z
LAST-MODIFIED:20230217T140024Z
UID:10000018-1678469400-1678480200@filetswaterfront.com
SUMMARY:Ryan Newman
DESCRIPTION:
URL:https://filetswaterfront.com/event/ryan-newman/
LOCATION:Dinner Menu
CATEGORIES:Live Music
ATTACH;FMTTYPE=:
END:VEVENT
BEGIN:VEVENT
DTSTART;TZID=America/New_York:20230311T173000
DTEND;TZID=America/New_York:20230311T203000
DTSTAMP:20260422T170058
CREATED:20230217T140055Z
LAST-MODIFIED:20230217T140055Z
UID:10000019-1678555800-1678566600@filetswaterfront.com
SUMMARY:Funky Junk Duo
DESCRIPTION:
URL:https://filetswaterfront.com/event/funky-junk-duo/
LOCATION:Dinner Menu
CATEGORIES:Live Music
ATTACH;FMTTYPE=:
END:VEVENT
BEGIN:VEVENT
DTSTART;TZID=America/New_York:20230317T173000
DTEND;TZID=America/New_York:20230317T203000
DTSTAMP:20260422T170058
CREATED:20230217T140127Z
LAST-MODIFIED:20230217T140127Z
UID:10000020-1679074200-1679085000@filetswaterfront.com
SUMMARY:Stringwood
DESCRIPTION:
URL:https://filetswaterfront.com/event/stringwood-2/
LOCATION:Dinner Menu
CATEGORIES:Live Music
ATTACH;FMTTYPE=:
END:VEVENT
BEGIN:VEVENT
DTSTART;TZID=America/New_York:20230318T173000
DTEND;TZID=America/New_York:20230318T203000
DTSTAMP:20260422T170058
CREATED:20230217T140203Z
LAST-MODIFIED:20230217T140203Z
UID:10000021-1679160600-1679171400@filetswaterfront.com
SUMMARY:Janko Winehart Duo
DESCRIPTION:
URL:https://filetswaterfront.com/event/janko-winehart-duo/
LOCATION:Dinner Menu
CATEGORIES:Live Music
ATTACH;FMTTYPE=:
END:VEVENT
BEGIN:VEVENT
DTSTART;TZID=America/New_York:20230324T173000
DTEND;TZID=America/New_York:20230324T203000
DTSTAMP:20260422T170058
CREATED:20230217T140235Z
LAST-MODIFIED:20230217T140235Z
UID:10000022-1679679000-1679689800@filetswaterfront.com
SUMMARY:Shaun Brown
DESCRIPTION:
URL:https://filetswaterfront.com/event/shaun-brown/
LOCATION:Dinner Menu
CATEGORIES:Live Music
ATTACH;FMTTYPE=:
END:VEVENT
BEGIN:VEVENT
DTSTART;TZID=America/New_York:20230325T173000
DTEND;TZID=America/New_York:20230325T203000
DTSTAMP:20260422T170058
CREATED:20230217T140308Z
LAST-MODIFIED:20230217T140308Z
UID:10000023-1679765400-1679776200@filetswaterfront.com
SUMMARY:Salty Dog
DESCRIPTION:
URL:https://filetswaterfront.com/event/salty-dog/
LOCATION:Dinner Menu
CATEGORIES:Live Music
ATTACH;FMTTYPE=:
END:VEVENT
BEGIN:VEVENT
DTSTART;TZID=America/New_York:20230331T173000
DTEND;TZID=America/New_York:20230331T203000
DTSTAMP:20260422T170058
CREATED:20230217T140512Z
LAST-MODIFIED:20230217T140512Z
UID:10000024-1680283800-1680294600@filetswaterfront.com
SUMMARY:Paul Grimshaw Duo
DESCRIPTION:
URL:https://filetswaterfront.com/event/paul-grimshaw-duo/
LOCATION:Dinner Menu
CATEGORIES:Live Music
ATTACH;FMTTYPE=:
END:VEVENT
END:VCALENDAR