BEGIN:VCALENDAR
VERSION:2.0
PRODID:-//Filet&#039;s Waterfront - ECPv6.15.20//NONSGML v1.0//EN
CALSCALE:GREGORIAN
METHOD:PUBLISH
X-WR-CALNAME:Filet&#039;s Waterfront
X-ORIGINAL-URL:https://filetswaterfront.com
X-WR-CALDESC:Events for Filet&#039;s Waterfront
REFRESH-INTERVAL;VALUE=DURATION:PT1H
X-Robots-Tag:noindex
X-PUBLISHED-TTL:PT1H
BEGIN:VTIMEZONE
TZID:America/New_York
BEGIN:DAYLIGHT
TZOFFSETFROM:-0500
TZOFFSETTO:-0400
TZNAME:EDT
DTSTART:20230312T070000
END:DAYLIGHT
BEGIN:STANDARD
TZOFFSETFROM:-0400
TZOFFSETTO:-0500
TZNAME:EST
DTSTART:20231105T060000
END:STANDARD
BEGIN:DAYLIGHT
TZOFFSETFROM:-0500
TZOFFSETTO:-0400
TZNAME:EDT
DTSTART:20240310T070000
END:DAYLIGHT
BEGIN:STANDARD
TZOFFSETFROM:-0400
TZOFFSETTO:-0500
TZNAME:EST
DTSTART:20241103T060000
END:STANDARD
BEGIN:DAYLIGHT
TZOFFSETFROM:-0500
TZOFFSETTO:-0400
TZNAME:EDT
DTSTART:20250309T070000
END:DAYLIGHT
BEGIN:STANDARD
TZOFFSETFROM:-0400
TZOFFSETTO:-0500
TZNAME:EST
DTSTART:20251102T060000
END:STANDARD
END:VTIMEZONE
BEGIN:VEVENT
DTSTART;TZID=America/New_York:20241206T170000
DTEND;TZID=America/New_York:20241206T200000
DTSTAMP:20260423T103926
CREATED:20240111T191259Z
LAST-MODIFIED:20240111T191259Z
UID:10000202-1733504400-1733515200@filetswaterfront.com
SUMMARY:Jared Cline
DESCRIPTION:
URL:https://filetswaterfront.com/event/jared-cline-4/2024-12-06/
LOCATION:Filet’s Waterfront
CATEGORIES:Live Music
END:VEVENT
BEGIN:VEVENT
DTSTART;TZID=America/New_York:20241207T170000
DTEND;TZID=America/New_York:20241207T200000
DTSTAMP:20260423T103926
CREATED:20240111T190328Z
LAST-MODIFIED:20240111T190328Z
UID:10000179-1733590800-1733601600@filetswaterfront.com
SUMMARY:Dune Fox Duo
DESCRIPTION:
URL:https://filetswaterfront.com/event/dune-fox-duo/2024-12-07/
LOCATION:Filet’s Waterfront
CATEGORIES:Live Music
END:VEVENT
BEGIN:VEVENT
DTSTART;TZID=America/New_York:20241213T170000
DTEND;TZID=America/New_York:20241213T200000
DTSTAMP:20260423T103926
CREATED:20240118T144152Z
LAST-MODIFIED:20240118T144152Z
UID:10000239-1734109200-1734120000@filetswaterfront.com
SUMMARY:Potatoheads
DESCRIPTION:
URL:https://filetswaterfront.com/event/potatoheads-2/2024-12-13/
LOCATION:Filet’s Waterfront
CATEGORIES:Live Music
END:VEVENT
BEGIN:VEVENT
DTSTART;TZID=America/New_York:20241214T170000
DTEND;TZID=America/New_York:20241214T200000
DTSTAMP:20260423T103926
CREATED:20240111T184608Z
LAST-MODIFIED:20240509T185216Z
UID:10000142-1734195600-1734206400@filetswaterfront.com
SUMMARY:If Birds Could Fly
DESCRIPTION:
URL:https://filetswaterfront.com/event/if-birds-could-fly-7/2024-12-14/
LOCATION:Filet’s Waterfront
CATEGORIES:Live Music
END:VEVENT
BEGIN:VEVENT
DTSTART;TZID=America/New_York:20241220T170000
DTEND;TZID=America/New_York:20241220T200000
DTSTAMP:20260423T103926
CREATED:20240111T184822Z
LAST-MODIFIED:20240111T184822Z
UID:10000147-1734714000-1734724800@filetswaterfront.com
SUMMARY:Ryan Newman
DESCRIPTION:
URL:https://filetswaterfront.com/event/ryan-newman-6/2024-12-20/
LOCATION:Filet’s Waterfront
CATEGORIES:Live Music
END:VEVENT
BEGIN:VEVENT
DTSTART;TZID=America/New_York:20241221T170000
DTEND;TZID=America/New_York:20241221T200000
DTSTAMP:20260423T103926
CREATED:20240111T190948Z
LAST-MODIFIED:20240111T190948Z
UID:10000194-1734800400-1734811200@filetswaterfront.com
SUMMARY:Austin Floyd
DESCRIPTION:
URL:https://filetswaterfront.com/event/austin-floyd-2/2024-12-21/
LOCATION:Filet’s Waterfront
CATEGORIES:Live Music
END:VEVENT
END:VCALENDAR