BEGIN:VCALENDAR
VERSION:2.0
PRODID:-//Filet&#039;s Waterfront - ECPv6.15.20//NONSGML v1.0//EN
CALSCALE:GREGORIAN
METHOD:PUBLISH
X-WR-CALNAME:Filet&#039;s Waterfront
X-ORIGINAL-URL:https://filetswaterfront.com
X-WR-CALDESC:Events for Filet&#039;s Waterfront
REFRESH-INTERVAL;VALUE=DURATION:PT1H
X-Robots-Tag:noindex
X-PUBLISHED-TTL:PT1H
BEGIN:VTIMEZONE
TZID:America/New_York
BEGIN:DAYLIGHT
TZOFFSETFROM:-0500
TZOFFSETTO:-0400
TZNAME:EDT
DTSTART:20240310T070000
END:DAYLIGHT
BEGIN:STANDARD
TZOFFSETFROM:-0400
TZOFFSETTO:-0500
TZNAME:EST
DTSTART:20241103T060000
END:STANDARD
BEGIN:DAYLIGHT
TZOFFSETFROM:-0500
TZOFFSETTO:-0400
TZNAME:EDT
DTSTART:20250309T070000
END:DAYLIGHT
BEGIN:STANDARD
TZOFFSETFROM:-0400
TZOFFSETTO:-0500
TZNAME:EST
DTSTART:20251102T060000
END:STANDARD
BEGIN:DAYLIGHT
TZOFFSETFROM:-0500
TZOFFSETTO:-0400
TZNAME:EDT
DTSTART:20260308T070000
END:DAYLIGHT
BEGIN:STANDARD
TZOFFSETFROM:-0400
TZOFFSETTO:-0500
TZNAME:EST
DTSTART:20261101T060000
END:STANDARD
END:VTIMEZONE
BEGIN:VEVENT
DTSTART;TZID=America/New_York:20250321T173000
DTEND;TZID=America/New_York:20250321T203000
DTSTAMP:20260423T062420
CREATED:20250317T191114Z
LAST-MODIFIED:20250317T191453Z
UID:10000257-1742578200-1742589000@filetswaterfront.com
SUMMARY:Tastes Like Chicken
DESCRIPTION:
URL:https://filetswaterfront.com/event/tastes-like-chicken-6/2025-03-21/
LOCATION:Filet’s Waterfront
CATEGORIES:Live Music
END:VEVENT
BEGIN:VEVENT
DTSTART;TZID=America/New_York:20250322T173000
DTEND;TZID=America/New_York:20250322T203000
DTSTAMP:20260423T062420
CREATED:20250317T191519Z
LAST-MODIFIED:20250317T191519Z
UID:10000262-1742664600-1742675400@filetswaterfront.com
SUMMARY:William King
DESCRIPTION:
URL:https://filetswaterfront.com/event/william-king-2/2025-03-22/
LOCATION:Filet’s Waterfront
CATEGORIES:Live Music
END:VEVENT
BEGIN:VEVENT
DTSTART;TZID=America/New_York:20250327T173000
DTEND;TZID=America/New_York:20250327T203000
DTSTAMP:20260423T062420
CREATED:20250317T191621Z
LAST-MODIFIED:20250317T191621Z
UID:10000264-1743096600-1743107400@filetswaterfront.com
SUMMARY:Positive J
DESCRIPTION:
URL:https://filetswaterfront.com/event/positive-j/
LOCATION:Filet’s Waterfront
CATEGORIES:Live Music
END:VEVENT
BEGIN:VEVENT
DTSTART;TZID=America/New_York:20250328T170000
DTEND;TZID=America/New_York:20250328T200000
DTSTAMP:20260423T062420
CREATED:20250317T191822Z
LAST-MODIFIED:20250317T191822Z
UID:10000265-1743181200-1743192000@filetswaterfront.com
SUMMARY:Timmy Pierce
DESCRIPTION:
URL:https://filetswaterfront.com/event/timmy-pierce-9/2025-03-28/
LOCATION:Filet’s Waterfront
CATEGORIES:Live Music
END:VEVENT
BEGIN:VEVENT
DTSTART;TZID=America/New_York:20250329T173000
DTEND;TZID=America/New_York:20250329T203000
DTSTAMP:20260423T062420
CREATED:20250317T191958Z
LAST-MODIFIED:20250317T191958Z
UID:10000270-1743269400-1743280200@filetswaterfront.com
SUMMARY:Eric Metts
DESCRIPTION:
URL:https://filetswaterfront.com/event/eric-metts-6/2025-03-29/
LOCATION:Filet’s Waterfront
CATEGORIES:Live Music
END:VEVENT
END:VCALENDAR