BEGIN:VCALENDAR
VERSION:2.0
PRODID:-//Filet&#039;s Waterfront - ECPv6.15.20//NONSGML v1.0//EN
CALSCALE:GREGORIAN
METHOD:PUBLISH
X-ORIGINAL-URL:https://filetswaterfront.com
X-WR-CALDESC:Events for Filet&#039;s Waterfront
REFRESH-INTERVAL;VALUE=DURATION:PT1H
X-Robots-Tag:noindex
X-PUBLISHED-TTL:PT1H
BEGIN:VTIMEZONE
TZID:America/New_York
BEGIN:DAYLIGHT
TZOFFSETFROM:-0500
TZOFFSETTO:-0400
TZNAME:EDT
DTSTART:20250309T070000
END:DAYLIGHT
BEGIN:STANDARD
TZOFFSETFROM:-0400
TZOFFSETTO:-0500
TZNAME:EST
DTSTART:20251102T060000
END:STANDARD
BEGIN:DAYLIGHT
TZOFFSETFROM:-0500
TZOFFSETTO:-0400
TZNAME:EDT
DTSTART:20260308T070000
END:DAYLIGHT
BEGIN:STANDARD
TZOFFSETFROM:-0400
TZOFFSETTO:-0500
TZNAME:EST
DTSTART:20261101T060000
END:STANDARD
BEGIN:DAYLIGHT
TZOFFSETFROM:-0500
TZOFFSETTO:-0400
TZNAME:EDT
DTSTART:20270314T070000
END:DAYLIGHT
BEGIN:STANDARD
TZOFFSETFROM:-0400
TZOFFSETTO:-0500
TZNAME:EST
DTSTART:20271107T060000
END:STANDARD
END:VTIMEZONE
BEGIN:VEVENT
DTSTART;TZID=America/New_York:20260320T173000
DTEND;TZID=America/New_York:20260320T203000
DTSTAMP:20260420T102426
CREATED:20260310T171158Z
LAST-MODIFIED:20260310T171158Z
UID:10000360-1774027800-1774038600@filetswaterfront.com
SUMMARY:Brown & Brooks
DESCRIPTION:
URL:https://filetswaterfront.com/event/brown-brooks/2026-03-20/
LOCATION:Filet’s Waterfront
CATEGORIES:Live Music
END:VEVENT
BEGIN:VEVENT
DTSTART;TZID=America/New_York:20260321T173000
DTEND;TZID=America/New_York:20260321T203000
DTSTAMP:20260420T102426
CREATED:20260310T171600Z
LAST-MODIFIED:20260310T171600Z
UID:10000364-1774114200-1774125000@filetswaterfront.com
SUMMARY:Austin Floyd
DESCRIPTION:
URL:https://filetswaterfront.com/event/austin-floyd-4/2026-03-21/
LOCATION:Filet’s Waterfront
CATEGORIES:Live Music
END:VEVENT
BEGIN:VEVENT
DTSTART;TZID=America/New_York:20260326T173000
DTEND;TZID=America/New_York:20260326T203000
DTSTAMP:20260420T102426
CREATED:20260310T171833Z
LAST-MODIFIED:20260310T171833Z
UID:10000373-1774546200-1774557000@filetswaterfront.com
SUMMARY:Ryan Newman
DESCRIPTION:
URL:https://filetswaterfront.com/event/ryan-newman-8/2026-03-26/
LOCATION:Filet’s Waterfront
CATEGORIES:Live Music
END:VEVENT
BEGIN:VEVENT
DTSTART;TZID=America/New_York:20260327T173000
DTEND;TZID=America/New_York:20260327T203000
DTSTAMP:20260420T102426
CREATED:20260310T172110Z
LAST-MODIFIED:20260310T172110Z
UID:10000378-1774632600-1774643400@filetswaterfront.com
SUMMARY:Alex Austin
DESCRIPTION:
URL:https://filetswaterfront.com/event/alex-austin-5/2026-03-27/
LOCATION:Filet’s Waterfront
END:VEVENT
BEGIN:VEVENT
DTSTART;TZID=America/New_York:20260328T173000
DTEND;TZID=America/New_York:20260328T203000
DTSTAMP:20260420T102426
CREATED:20260310T172307Z
LAST-MODIFIED:20260310T172307Z
UID:10000383-1774719000-1774729800@filetswaterfront.com
SUMMARY:City Lights Trio
DESCRIPTION:
URL:https://filetswaterfront.com/event/city-lights-trio-4/2026-03-28/
LOCATION:Filet’s Waterfront
END:VEVENT
END:VCALENDAR